BEGIN:VCALENDAR
VERSION:2.0
PRODID:-//International Society of Exposure Science - ECPv6.15.17//NONSGML v1.0//EN
CALSCALE:GREGORIAN
METHOD:PUBLISH
X-ORIGINAL-URL:https://www.intlexposurescience.org
X-WR-CALDESC:Events for International Society of Exposure Science
REFRESH-INTERVAL;VALUE=DURATION:PT1H
X-Robots-Tag:noindex
X-PUBLISHED-TTL:PT1H
BEGIN:VTIMEZONE
TZID:America/Chicago
BEGIN:DAYLIGHT
TZOFFSETFROM:-0600
TZOFFSETTO:-0500
TZNAME:CDT
DTSTART:20200308T080000
END:DAYLIGHT
BEGIN:STANDARD
TZOFFSETFROM:-0500
TZOFFSETTO:-0600
TZNAME:CST
DTSTART:20201101T070000
END:STANDARD
BEGIN:DAYLIGHT
TZOFFSETFROM:-0600
TZOFFSETTO:-0500
TZNAME:CDT
DTSTART:20210314T080000
END:DAYLIGHT
BEGIN:STANDARD
TZOFFSETFROM:-0500
TZOFFSETTO:-0600
TZNAME:CST
DTSTART:20211107T070000
END:STANDARD
BEGIN:DAYLIGHT
TZOFFSETFROM:-0600
TZOFFSETTO:-0500
TZNAME:CDT
DTSTART:20220313T080000
END:DAYLIGHT
BEGIN:STANDARD
TZOFFSETFROM:-0500
TZOFFSETTO:-0600
TZNAME:CST
DTSTART:20221106T070000
END:STANDARD
END:VTIMEZONE
BEGIN:VEVENT
DTSTART;TZID=America/Chicago:20210813T040000
DTEND;TZID=America/Chicago:20210813T060000
DTSTAMP:20260421T054915
CREATED:20210528T004047Z
LAST-MODIFIED:20210528T010527Z
UID:3373-1628827200-1628834400@www.intlexposurescience.org
SUMMARY:Land-use regression with spatiotemporally correlated errors
DESCRIPTION:Land-use regression with spatiotemporally correlated errors\n\nPrimary Instructor: Kyle Messier \nDate/Time: Friday\, August 13th\, 9AM – 11AM
URL:https://www.intlexposurescience.org/event/land-use-regression-with-spatiotemporally-correlated-errors/
END:VEVENT
BEGIN:VEVENT
DTSTART;TZID=America/Chicago:20210813T040000
DTEND;TZID=America/Chicago:20210813T060000
DTSTAMP:20260421T054915
CREATED:20210528T005722Z
LAST-MODIFIED:20210528T010445Z
UID:3381-1628827200-1628834400@www.intlexposurescience.org
SUMMARY:NASA Data and Tools for Health Applications
DESCRIPTION:NASA Data and Tools for Health Applications\n\nPrimary Instructor: Bryan Duncan \nDate/Time: Friday\, August 13th\, 9AM – 11AM
URL:https://www.intlexposurescience.org/event/nasa-data-and-tools-for-health-applications/
END:VEVENT
BEGIN:VEVENT
DTSTART;TZID=America/Chicago:20210813T070000
DTEND;TZID=America/Chicago:20210813T110000
DTSTAMP:20260421T054915
CREATED:20210528T005933Z
LAST-MODIFIED:20210528T010408Z
UID:3385-1628838000-1628852400@www.intlexposurescience.org
SUMMARY:Web-based spectral processing\, functional interpretation and biomarker analysis using MetaboAnalyst
DESCRIPTION:Web-based spectral processing\, functional interpretation and biomarker analysis using MetaboAnalyst\n\nPrimary Instructor: Jianguo Xia \nDate/Time: Friday\, August 13th\, Noon – 4PM
URL:https://www.intlexposurescience.org/event/web-based-spectral-processing-functional-interpretation-and-biomarker-analysis-using-metaboanalyst/
END:VEVENT
BEGIN:VEVENT
DTSTART;TZID=America/Chicago:20210813T070000
DTEND;TZID=America/Chicago:20210813T110000
DTSTAMP:20260421T054915
CREATED:20210528T010034Z
LAST-MODIFIED:20210528T010341Z
UID:3387-1628838000-1628852400@www.intlexposurescience.org
SUMMARY:Toxicokinetic New Approach Methodologies (NAMs)
DESCRIPTION:Toxicokinetic New Approach Methodologies (NAMs)\n\nPrimary Instructor: John Wambaugh \nDate/Time: Friday\, August 13th\, Noon – 4PM
URL:https://www.intlexposurescience.org/event/toxicokinetic-new-approach-methodologies-nams/
END:VEVENT
END:VCALENDAR