BEGIN:VCALENDAR
VERSION:2.0
PRODID:-//International Society of Exposure Science - ECPv6.15.17//NONSGML v1.0//EN
CALSCALE:GREGORIAN
METHOD:PUBLISH
X-ORIGINAL-URL:https://www.intlexposurescience.org
X-WR-CALDESC:Events for International Society of Exposure Science
REFRESH-INTERVAL;VALUE=DURATION:PT1H
X-Robots-Tag:noindex
X-PUBLISHED-TTL:PT1H
BEGIN:VTIMEZONE
TZID:America/Chicago
BEGIN:DAYLIGHT
TZOFFSETFROM:-0600
TZOFFSETTO:-0500
TZNAME:CDT
DTSTART:20200308T080000
END:DAYLIGHT
BEGIN:STANDARD
TZOFFSETFROM:-0500
TZOFFSETTO:-0600
TZNAME:CST
DTSTART:20201101T070000
END:STANDARD
BEGIN:DAYLIGHT
TZOFFSETFROM:-0600
TZOFFSETTO:-0500
TZNAME:CDT
DTSTART:20210314T080000
END:DAYLIGHT
BEGIN:STANDARD
TZOFFSETFROM:-0500
TZOFFSETTO:-0600
TZNAME:CST
DTSTART:20211107T070000
END:STANDARD
BEGIN:DAYLIGHT
TZOFFSETFROM:-0600
TZOFFSETTO:-0500
TZNAME:CDT
DTSTART:20220313T080000
END:DAYLIGHT
BEGIN:STANDARD
TZOFFSETFROM:-0500
TZOFFSETTO:-0600
TZNAME:CST
DTSTART:20221106T070000
END:STANDARD
END:VTIMEZONE
BEGIN:VEVENT
DTSTART;VALUE=DATE:20210829
DTEND;VALUE=DATE:20210903
DTSTAMP:20260423T063537
CREATED:20201008T024459Z
LAST-MODIFIED:20210301T095334Z
UID:2676-1630263600-1630609199@www.intlexposurescience.org
SUMMARY:ISES2021: Multisector Engagement for Addressing Emerging Environmental Exposures
DESCRIPTION:
URL:https://www.intlexposurescience.org/event/ises2021-multisector-engagement-for-addressing-emerging-environmental-exposures/
END:VEVENT
BEGIN:VEVENT
DTSTART;TZID=America/Chicago:20210830T040000
DTEND;TZID=America/Chicago:20210830T060000
DTSTAMP:20260423T063537
CREATED:20210528T004431Z
LAST-MODIFIED:20210528T010255Z
UID:3377-1630296000-1630303200@www.intlexposurescience.org
SUMMARY:How to Explore\, Access\, and Analyze over 3.5 billion air quality data points from 120 countries on the OpenAQ platform
DESCRIPTION:How to Explore\, Access\, and Analyze over 3.5 billion air quality data points from 120 countries on the OpenAQ platform\n\nPrimary Instructor: Chisato Calvert \nDate/Time: Monday\, August 30th\, 9AM – 11AM
URL:https://www.intlexposurescience.org/event/how-to-explore-access-and-analyze-over-3-5-billion-air-quality-data-points-from-120-countries-on-the-openaq-platform/
END:VEVENT
BEGIN:VEVENT
DTSTART;TZID=America/Chicago:20210830T040000
DTEND;TZID=America/Chicago:20210830T060000
DTSTAMP:20260423T063537
CREATED:20210528T005615Z
LAST-MODIFIED:20210528T010232Z
UID:3379-1630296000-1630303200@www.intlexposurescience.org
SUMMARY:An Introduction to Implementation Science for Environmental Health
DESCRIPTION:An Introduction to Implementation Science for Environmental Health\n\nPrimary Instructor: Lindsey Martin \nDate/Time: Monday\, August 30th\, 9AM – 11AM
URL:https://www.intlexposurescience.org/event/an-introduction-to-implementation-science-for-environmental-health/
END:VEVENT
BEGIN:VEVENT
DTSTART;TZID=America/Chicago:20210830T040000
DTEND;TZID=America/Chicago:20210830T060000
DTSTAMP:20260423T063537
CREATED:20210528T010154Z
LAST-MODIFIED:20210528T010154Z
UID:3389-1630296000-1630303200@www.intlexposurescience.org
SUMMARY:USEtox consensus near-field & far-field exposure and impact modeling for chemical prioritization\, substitution and life-cycle assessment
DESCRIPTION:USEtox consensus near-field & far-field exposure and impact modeling for chemical prioritization\, substitution and life-cycle assessment\n\nPrimary Instructor: Peter Fantke \nDate/Time: Monday\, August 30th\, 9AM – 11AM
URL:https://www.intlexposurescience.org/event/usetox-consensus-near-field-far-field-exposure-and-impact-modeling-for-chemical-prioritization-substitution-and-life-cycle-assessment/
END:VEVENT
END:VCALENDAR