BEGIN:VCALENDAR
VERSION:2.0
PRODID:-//International Society of Exposure Science - ECPv6.15.17//NONSGML v1.0//EN
CALSCALE:GREGORIAN
METHOD:PUBLISH
X-ORIGINAL-URL:https://www.intlexposurescience.org
X-WR-CALDESC:Events for International Society of Exposure Science
REFRESH-INTERVAL;VALUE=DURATION:PT1H
X-Robots-Tag:noindex
X-PUBLISHED-TTL:PT1H
BEGIN:VTIMEZONE
TZID:America/Chicago
BEGIN:DAYLIGHT
TZOFFSETFROM:-0600
TZOFFSETTO:-0500
TZNAME:CDT
DTSTART:20200308T080000
END:DAYLIGHT
BEGIN:STANDARD
TZOFFSETFROM:-0500
TZOFFSETTO:-0600
TZNAME:CST
DTSTART:20201101T070000
END:STANDARD
BEGIN:DAYLIGHT
TZOFFSETFROM:-0600
TZOFFSETTO:-0500
TZNAME:CDT
DTSTART:20210314T080000
END:DAYLIGHT
BEGIN:STANDARD
TZOFFSETFROM:-0500
TZOFFSETTO:-0600
TZNAME:CST
DTSTART:20211107T070000
END:STANDARD
BEGIN:DAYLIGHT
TZOFFSETFROM:-0600
TZOFFSETTO:-0500
TZNAME:CDT
DTSTART:20220313T080000
END:DAYLIGHT
BEGIN:STANDARD
TZOFFSETFROM:-0500
TZOFFSETTO:-0600
TZNAME:CST
DTSTART:20221106T070000
END:STANDARD
END:VTIMEZONE
BEGIN:VEVENT
DTSTART;TZID=America/Chicago:20210929T120000
DTEND;TZID=America/Chicago:20210929T130000
DTSTAMP:20260421T083625
CREATED:20210914T024331Z
LAST-MODIFIED:20210914T233233Z
UID:4005-1632916800-1632920400@www.intlexposurescience.org
SUMMARY:A Review of Dermal Loading and Transfer Literature:  Solids and Liquids
DESCRIPTION:Presenter: Jennifer Sahmel\, PhD\, CIH\, CSP\, FAIHA\, Insight Exposure and Risk Sciences
URL:https://www.intlexposurescience.org/event/a-review-of-dermal-loading-and-transfer-literature-solids-and-liquids/
LOCATION:Webinar
END:VEVENT
END:VCALENDAR