BEGIN:VCALENDAR
VERSION:2.0
PRODID:-//International Society of Exposure Science - ECPv6.15.17//NONSGML v1.0//EN
CALSCALE:GREGORIAN
METHOD:PUBLISH
X-ORIGINAL-URL:https://www.intlexposurescience.org
X-WR-CALDESC:Events for International Society of Exposure Science
REFRESH-INTERVAL;VALUE=DURATION:PT1H
X-Robots-Tag:noindex
X-PUBLISHED-TTL:PT1H
BEGIN:VTIMEZONE
TZID:America/Chicago
BEGIN:DAYLIGHT
TZOFFSETFROM:-0600
TZOFFSETTO:-0500
TZNAME:CDT
DTSTART:20200308T080000
END:DAYLIGHT
BEGIN:STANDARD
TZOFFSETFROM:-0500
TZOFFSETTO:-0600
TZNAME:CST
DTSTART:20201101T070000
END:STANDARD
BEGIN:DAYLIGHT
TZOFFSETFROM:-0600
TZOFFSETTO:-0500
TZNAME:CDT
DTSTART:20210314T080000
END:DAYLIGHT
BEGIN:STANDARD
TZOFFSETFROM:-0500
TZOFFSETTO:-0600
TZNAME:CST
DTSTART:20211107T070000
END:STANDARD
BEGIN:DAYLIGHT
TZOFFSETFROM:-0600
TZOFFSETTO:-0500
TZNAME:CDT
DTSTART:20220313T080000
END:DAYLIGHT
BEGIN:STANDARD
TZOFFSETFROM:-0500
TZOFFSETTO:-0600
TZNAME:CST
DTSTART:20221106T070000
END:STANDARD
END:VTIMEZONE
BEGIN:VEVENT
DTSTART;TZID=America/Chicago:20211027T114500
DTEND;TZID=America/Chicago:20211027T130000
DTSTAMP:20260421T112332
CREATED:20211020T020004Z
LAST-MODIFIED:20211020T202353Z
UID:4019-1635335100-1635339600@www.intlexposurescience.org
SUMMARY:COVID-19 Panel: New Insights
DESCRIPTION:We are excited to bring back five of our 2020 webinar speakers to share new insights in their research focused on COVID-19. Each speaker will provide a brief update on new research findings. The speakers will then engage in a facilitated Q&A with webinar participants. \nSpeakers\nPallavi Pant\, PhD\, Senior Scientist\, Health Effects Institute\nByron Erath\, PhD\, Associate Professor\, Clarkson University\nAndrea Ferro\, PhD\, Professor\, Clarkson University\nAna Rule\, PhD\, Assistant Professor\, Johns Hopkins University\nKirsten Koehler\, PhD\, Associate Professor\, Johns Hopkins University
URL:https://www.intlexposurescience.org/event/covid-19-panel-new-insights/
LOCATION:Webinar
END:VEVENT
END:VCALENDAR