BEGIN:VCALENDAR
VERSION:2.0
PRODID:-//International Society of Exposure Science - ECPv6.15.17//NONSGML v1.0//EN
CALSCALE:GREGORIAN
METHOD:PUBLISH
X-WR-CALNAME:International Society of Exposure Science
X-ORIGINAL-URL:https://www.intlexposurescience.org
X-WR-CALDESC:Events for International Society of Exposure Science
REFRESH-INTERVAL;VALUE=DURATION:PT1H
X-Robots-Tag:noindex
X-PUBLISHED-TTL:PT1H
BEGIN:VTIMEZONE
TZID:America/Chicago
BEGIN:DAYLIGHT
TZOFFSETFROM:-0600
TZOFFSETTO:-0500
TZNAME:CDT
DTSTART:20200308T080000
END:DAYLIGHT
BEGIN:STANDARD
TZOFFSETFROM:-0500
TZOFFSETTO:-0600
TZNAME:CST
DTSTART:20201101T070000
END:STANDARD
BEGIN:DAYLIGHT
TZOFFSETFROM:-0600
TZOFFSETTO:-0500
TZNAME:CDT
DTSTART:20210314T080000
END:DAYLIGHT
BEGIN:STANDARD
TZOFFSETFROM:-0500
TZOFFSETTO:-0600
TZNAME:CST
DTSTART:20211107T070000
END:STANDARD
BEGIN:DAYLIGHT
TZOFFSETFROM:-0600
TZOFFSETTO:-0500
TZNAME:CDT
DTSTART:20220313T080000
END:DAYLIGHT
BEGIN:STANDARD
TZOFFSETFROM:-0500
TZOFFSETTO:-0600
TZNAME:CST
DTSTART:20221106T070000
END:STANDARD
END:VTIMEZONE
BEGIN:VEVENT
DTSTART;TZID=America/Chicago:20211215T080000
DTEND;TZID=America/Chicago:20211215T090000
DTSTAMP:20260421T165930
CREATED:20211129T212358Z
LAST-MODIFIED:20220104T222448Z
UID:4080-1639555200-1639558800@www.intlexposurescience.org
SUMMARY:US EPA Research Webinar:  Community and Citizen Science: Making Your Data Count
DESCRIPTION:How can community and citizen science contribute to environmental decision-making? Many EPA\, state\, and tribal environmental programs are increasingly using community and citizen science for environmental monitoring and addressing social and environmental justice concerns. A recent multi-stakeholder workshop explored gaps and needed improvements in data management that will allow for a more efficient flow of data from producers to users. A major focus is on community science projects that involve grassroots activities to address local concerns. \nThis webinar will showcase community-oriented projects and share ideas from the workshop. Webinar topics will include: How can we design a future that maximizes the use of community and citizen science data? How do we address the barriers that limit data use today? How can EPA serve as a catalyst to build a stronger\, more inclusive collaborative network with states\, tribes\, local government\, non-governmental organizations\, academia\, and other organizations? \nPlease attend this webinar to learn about the tools and practices used in these exciting community and citizen science projects and how EPA\, states\, and tribal governments can better support these efforts. \nPresenter: Jay Benforado\, EPA OSAPE
URL:https://www.intlexposurescience.org/event/us-epa-research-webinar-community-and-citizen-science-making-your-data-count/
ATTACH;FMTTYPE=image/jpeg:https://www.intlexposurescience.org/wp-content/uploads/2021/11/young-teacher-preparing-for-the-lecture-2021-08-27-22-28-26-utc-scaled.jpg
END:VEVENT
END:VCALENDAR