BEGIN:VCALENDAR
VERSION:2.0
PRODID:-//International Society of Exposure Science - ECPv6.15.17//NONSGML v1.0//EN
CALSCALE:GREGORIAN
METHOD:PUBLISH
X-WR-CALNAME:International Society of Exposure Science
X-ORIGINAL-URL:https://www.intlexposurescience.org
X-WR-CALDESC:Events for International Society of Exposure Science
REFRESH-INTERVAL;VALUE=DURATION:PT1H
X-Robots-Tag:noindex
X-PUBLISHED-TTL:PT1H
BEGIN:VTIMEZONE
TZID:America/Chicago
BEGIN:DAYLIGHT
TZOFFSETFROM:-0600
TZOFFSETTO:-0500
TZNAME:CDT
DTSTART:20210314T080000
END:DAYLIGHT
BEGIN:STANDARD
TZOFFSETFROM:-0500
TZOFFSETTO:-0600
TZNAME:CST
DTSTART:20211107T070000
END:STANDARD
BEGIN:DAYLIGHT
TZOFFSETFROM:-0600
TZOFFSETTO:-0500
TZNAME:CDT
DTSTART:20220313T080000
END:DAYLIGHT
BEGIN:STANDARD
TZOFFSETFROM:-0500
TZOFFSETTO:-0600
TZNAME:CST
DTSTART:20221106T070000
END:STANDARD
BEGIN:DAYLIGHT
TZOFFSETFROM:-0600
TZOFFSETTO:-0500
TZNAME:CDT
DTSTART:20230312T080000
END:DAYLIGHT
BEGIN:STANDARD
TZOFFSETFROM:-0500
TZOFFSETTO:-0600
TZNAME:CST
DTSTART:20231105T070000
END:STANDARD
END:VTIMEZONE
BEGIN:VEVENT
DTSTART;TZID=America/Chicago:20220202T013000
DTEND;TZID=America/Chicago:20220202T030000
DTSTAMP:20260421T200518
CREATED:20220101T211510Z
LAST-MODIFIED:20220108T005352Z
UID:4072-1643765400-1643770800@www.intlexposurescience.org
SUMMARY:HEI Webinar Series: Integrating AQ and health data into local and national policymaking
DESCRIPTION:This webinar will examine the most effective ways for scientific evidence to inform policymakers and action\, focusing air quality policies and actions on those most beneficial to public health in the region. \nTopics: \n\nHow can scientific evidence influence policymaking?\nPanel discussion: Strategies for effective utilization of air quality and health evidence to inform policy action
URL:https://www.intlexposurescience.org/event/hei-webinar-series-integrating-aq-and-health-data-into-local-and-national-policymaking/
LOCATION:Webinar
END:VEVENT
END:VCALENDAR