BEGIN:VCALENDAR
VERSION:2.0
PRODID:-//International Society of Exposure Science - ECPv6.15.17//NONSGML v1.0//EN
CALSCALE:GREGORIAN
METHOD:PUBLISH
X-ORIGINAL-URL:https://www.intlexposurescience.org
X-WR-CALDESC:Events for International Society of Exposure Science
REFRESH-INTERVAL;VALUE=DURATION:PT1H
X-Robots-Tag:noindex
X-PUBLISHED-TTL:PT1H
BEGIN:VTIMEZONE
TZID:America/Chicago
BEGIN:DAYLIGHT
TZOFFSETFROM:-0600
TZOFFSETTO:-0500
TZNAME:CDT
DTSTART:20210314T080000
END:DAYLIGHT
BEGIN:STANDARD
TZOFFSETFROM:-0500
TZOFFSETTO:-0600
TZNAME:CST
DTSTART:20211107T070000
END:STANDARD
BEGIN:DAYLIGHT
TZOFFSETFROM:-0600
TZOFFSETTO:-0500
TZNAME:CDT
DTSTART:20220313T080000
END:DAYLIGHT
BEGIN:STANDARD
TZOFFSETFROM:-0500
TZOFFSETTO:-0600
TZNAME:CST
DTSTART:20221106T070000
END:STANDARD
BEGIN:DAYLIGHT
TZOFFSETFROM:-0600
TZOFFSETTO:-0500
TZNAME:CDT
DTSTART:20230312T080000
END:DAYLIGHT
BEGIN:STANDARD
TZOFFSETFROM:-0500
TZOFFSETTO:-0600
TZNAME:CST
DTSTART:20231105T070000
END:STANDARD
END:VTIMEZONE
BEGIN:VEVENT
DTSTART;VALUE=DATE:20220902
DTEND;VALUE=DATE:20220924
DTSTAMP:20260423T053832
CREATED:20220627T211328Z
LAST-MODIFIED:20220921T212059Z
UID:6499-1662080400-1663894799@www.intlexposurescience.org
SUMMARY:ISES Virtual Pre-Conference Workshops
DESCRIPTION:There are a variety of Virtual Pre-Conference Workshops planned in conjunction with the in-person ISES 2022 Annual Meeting.  Join us in the weeks or days leading up to the in-person meeting. \nNOTE:  Registration for the ISES 2022 Annual Meeting is not required to register for the Virtual Pre-Conference Workshops.  Click here to register for the Virtual Pre-Conference Workshops. \nTitle:  Presenting at a Conference:  Tips and Feedback\n2 September\, 11 AM – 1 PM ET\nVirtual only\nDescription:  This workshop will help attendees learn how to develop and execute a ​high-quality conference presentation for the ISES 2022 Annual Meeting.  The registrants will be asked to review a previously recorded seminar and prepare their presentation. Each participant will have an opportunity to show their oral/poster presentation\, to be evaluated and receive feedback from tenured members of the Society. \n\nTitle: UNEP’s USEtox consensus exposure and toxicity model for chemical substitution\, risk screening and LCA\n19 September\, 10 AM ET – 1 PM ET\nVirtual only\nDescription: The aim of this course is to introduce participants to the exposure science methods used in life-cycle assessment\, comparative risk assessment\, and chemical substitution. Participants will learn to use and evaluate basic tools for mass-balance\, fate modelling\, near-field and far-field exposure and intake fraction\, and effect factor estimation. Participants will review underlying model assumptions and evaluate data needs along with data and knowledge gaps in these assessments. The course is intended for environmental science practitioners interested in the scientific fundamentals of chemical impact assessment. Only basic background knowledge of environmental modelling\, risk assessment or life cycle assessment is considered necessary. \n\nTitle: Meet & Greet\, Network with exposure scientists from around the world!\n20 September\, 10 AM ET – 11 AM ET\nVirtual only\nDescription: The ISES Mentorship Committee is hosting a virtual meet and greet to prepare and get excited about the in-person annual meeting. This free event is open to all and it will be a good opportunity: * To meet exposure scientists from around the world * To meet people who are planning to attend the ISES 2022 conference * For students who would like to meet mentors within their field * For new members to meet other exposure scientists * For all who would like to brush up on their social skills. \n\nTitle:  Hands on analysis of mass spectrometry-based exposomics data using ADAP-BIG and ADAP-KDB\n21 September\, 10 AM – 12 PM ET\nVirtual only\nDescription:  High throughput gas chromatography (GC) and liquid chromatography (LC)-mass spectrometry (MS) technologies have made it possible to conduct large-scale exposomics studies. These studies can involve thousands of samples and produce hundreds of gigabytes of raw LC-MS and GC-MS data. Such a large amount of data raises fundamentally new challenges for software tools and cloud resources to preprocess raw data from instruments and annotate the resulting signals. These challenges include handling big data on available computing workstations\, aligning data from multiple batches of samples\, performing batch-effect correction\, and others. This workshop will introduce a suite of software tools and cloud resources specifically designed to handle mass spectrometry exposomics data from large-scale studies. \n\nTitle:  How to access open air quality data from the OpenAQ Platform\n22 September\, 10 AM – 12 PM ET\nVirtual only\nDescription:  The workshop will open with an overview of the OpenAQ Platform\, the importance of open data\, and its diverse applications in the scientific field. Participants will then have an opportunity to learn about how to access air quality data through a step-by-step interactive tutorial. Following a Q&A session\, the participants will engage in a deeper dive with the platform\, using case studies and examples of open data queries. These examples can be based on real-life research questions and/or objectives that exposure scientists are grappling with in their current research. Finally\, the workshop will close with resources and opportunities to connect to the broader OpenAQ Community\, a committed community of air quality advocates.
URL:https://www.intlexposurescience.org/event/ises-virtual-pre-conference-workshops/
LOCATION:Annual Meeting\, Virtual\, United States
ATTACH;FMTTYPE=image/png:https://www.intlexposurescience.org/wp-content/uploads/2021/09/2022-Logo.2-e1641521775899.png
END:VEVENT
END:VCALENDAR