BEGIN:VCALENDAR
VERSION:2.0
PRODID:-//International Society of Exposure Science - ECPv6.15.17//NONSGML v1.0//EN
CALSCALE:GREGORIAN
METHOD:PUBLISH
X-ORIGINAL-URL:https://www.intlexposurescience.org
X-WR-CALDESC:Events for International Society of Exposure Science
REFRESH-INTERVAL;VALUE=DURATION:PT1H
X-Robots-Tag:noindex
X-PUBLISHED-TTL:PT1H
BEGIN:VTIMEZONE
TZID:America/Chicago
BEGIN:DAYLIGHT
TZOFFSETFROM:-0600
TZOFFSETTO:-0500
TZNAME:CDT
DTSTART:20210314T080000
END:DAYLIGHT
BEGIN:STANDARD
TZOFFSETFROM:-0500
TZOFFSETTO:-0600
TZNAME:CST
DTSTART:20211107T070000
END:STANDARD
BEGIN:DAYLIGHT
TZOFFSETFROM:-0600
TZOFFSETTO:-0500
TZNAME:CDT
DTSTART:20220313T080000
END:DAYLIGHT
BEGIN:STANDARD
TZOFFSETFROM:-0500
TZOFFSETTO:-0600
TZNAME:CST
DTSTART:20221106T070000
END:STANDARD
BEGIN:DAYLIGHT
TZOFFSETFROM:-0600
TZOFFSETTO:-0500
TZNAME:CDT
DTSTART:20230312T080000
END:DAYLIGHT
BEGIN:STANDARD
TZOFFSETFROM:-0500
TZOFFSETTO:-0600
TZNAME:CST
DTSTART:20231105T070000
END:STANDARD
END:VTIMEZONE
BEGIN:VEVENT
DTSTART;TZID=America/Chicago:20220125T040000
DTEND;TZID=America/Chicago:20220125T050000
DTSTAMP:20260421T170011
CREATED:20220108T124113Z
LAST-MODIFIED:20220110T035116Z
UID:4925-1643083200-1643086800@www.intlexposurescience.org
SUMMARY:January Webinar:  Links between risk assessment and epidemiology: Applications with COVID-19
DESCRIPTION:This month\, Dr. Rachael Jones is hosting this webinar and will use COVID-19 to illustrate the relative strengths and limitations\, and linkages between risk assessment and epidemiology. \nDr. Rachael Jones is an Associate Professor in the Department of Family & Preventive Medicine at the Spencer Fox Eccles of School of Medicine and Director of the Utah Center for Promotion of Work Equity Research.  One of the primary research themes is microbial risk assessment\, and the transmission and prevention of occupationally-acquired infection. \nRegistration for the webinar is required.  Please register here.
URL:https://www.intlexposurescience.org/event/january-webinar-links-between-risk-assessment-and-epidemiology-applications-with-covid-19/
LOCATION:Webinar
ATTACH;FMTTYPE=image/jpeg:https://www.intlexposurescience.org/wp-content/uploads/2022/01/Rachael-Jones.jpg
END:VEVENT
END:VCALENDAR