BEGIN:VCALENDAR
VERSION:2.0
PRODID:-//International Society of Exposure Science - ECPv6.15.17//NONSGML v1.0//EN
CALSCALE:GREGORIAN
METHOD:PUBLISH
X-ORIGINAL-URL:https://www.intlexposurescience.org
X-WR-CALDESC:Events for International Society of Exposure Science
REFRESH-INTERVAL;VALUE=DURATION:PT1H
X-Robots-Tag:noindex
X-PUBLISHED-TTL:PT1H
BEGIN:VTIMEZONE
TZID:America/Chicago
BEGIN:DAYLIGHT
TZOFFSETFROM:-0600
TZOFFSETTO:-0500
TZNAME:CDT
DTSTART:20230312T080000
END:DAYLIGHT
BEGIN:STANDARD
TZOFFSETFROM:-0500
TZOFFSETTO:-0600
TZNAME:CST
DTSTART:20231105T070000
END:STANDARD
BEGIN:DAYLIGHT
TZOFFSETFROM:-0600
TZOFFSETTO:-0500
TZNAME:CDT
DTSTART:20240310T080000
END:DAYLIGHT
BEGIN:STANDARD
TZOFFSETFROM:-0500
TZOFFSETTO:-0600
TZNAME:CST
DTSTART:20241103T070000
END:STANDARD
BEGIN:DAYLIGHT
TZOFFSETFROM:-0600
TZOFFSETTO:-0500
TZNAME:CDT
DTSTART:20250309T080000
END:DAYLIGHT
BEGIN:STANDARD
TZOFFSETFROM:-0500
TZOFFSETTO:-0600
TZNAME:CST
DTSTART:20251102T070000
END:STANDARD
END:VTIMEZONE
BEGIN:VEVENT
DTSTART;TZID=America/Chicago:20241002T113000
DTEND;TZID=America/Chicago:20241002T130000
DTSTAMP:20260421T104235
CREATED:20240925T174805Z
LAST-MODIFIED:20240925T175651Z
UID:9614-1727868600-1727874000@www.intlexposurescience.org
SUMMARY:How to Attend a Scientific Conference: ISES Mentorship Committee Pre-Conference Workshop
DESCRIPTION:This workshop is intended for students\, trainees\, and other individuals who are new to attending a scientific conference like ISES. Attendees will hear professional and practical tips for getting the most from the conference experience from Mentorship Committee members and have a chance to meet other attendees before the conference.
URL:https://www.intlexposurescience.org/event/how-to-attend-a-scientific-conference-ises-mentorship-committee-pre-conference-workshop/
LOCATION:Zoom
END:VEVENT
BEGIN:VEVENT
DTSTART;TZID=America/Chicago:20241016T130000
DTEND;TZID=America/Chicago:20241016T140000
DTSTAMP:20260421T104235
CREATED:20240926T155238Z
LAST-MODIFIED:20240926T155338Z
UID:9630-1729083600-1729087200@www.intlexposurescience.org
SUMMARY:Getting Ready for the ISES 2024 Annual Meeting
DESCRIPTION:Dear Colleagues\, We invite you to join us for an ISES 2024 Pre-Meeting Virtual Social\, designed to provide orientation and networking opportunities for first-time attendees of the annual meeting and/or early career researchers. This event will provide an overview of ISES\, highlight key events at the upcoming meeting—especially those geared toward networking for students and new researchers—and offer a chance to meet other attendees ahead of the main event. Participants will have the opportunity to join small breakout sessions for discussions and to potentially arrange in-person meetups during the conference. We look forward to your engagement in this virtual social! Please find the Zoom and registration links below.
URL:https://www.intlexposurescience.org/event/getting-ready-for-the-ises-2024-annual-meeting/
LOCATION:Zoom
END:VEVENT
BEGIN:VEVENT
DTSTART;TZID=America/Chicago:20241020T090000
DTEND;TZID=America/Chicago:20241024T210000
DTSTAMP:20260421T104235
CREATED:20240925T175535Z
LAST-MODIFIED:20240925T175535Z
UID:9619-1729414800-1729803600@www.intlexposurescience.org
SUMMARY:2024 ISES Annual Meeting
DESCRIPTION:Join others at the forefront of groundbreaking research at the ISES 2024 Annual Meeting\, where research in exposure science\, epidemiology\, toxicology\, and risk assessments converge to explore “Exposures that Impact Health in Vulnerable Populations.”  This meeting will bring together communities from academia\, government as well as non-profit organizations working on the front lines trying to protect our valuable commodities\, our people.  Elevate your expertise\, broaden your network\, and contribute to shaping a healthier future at #ISES2024.
URL:https://www.intlexposurescience.org/event/2024-ises-annual-meeting/
END:VEVENT
BEGIN:VEVENT
DTSTART;TZID=America/Chicago:20241030T103000
DTEND;TZID=America/Chicago:20241030T113000
DTSTAMP:20260421T104235
CREATED:20240925T175334Z
LAST-MODIFIED:20240925T175551Z
UID:9617-1730284200-1730287800@www.intlexposurescience.org
SUMMARY:ISES WAG Series
DESCRIPTION:WAGs (Writing Accountability Groups) are a habit-building method and community to increase productivity.  \n We all struggle focusing\, managing time\, and prioritizing. \nThis WAG is a space\, a support system\, and a community to help hold each other accountable and increase productivity. The objective is to help each other acknowledge when goals are too big or help members troubleshoot roadblocks by sharing strategies for breaking through common challenges.  \nThe goal of a WAG is to meet and work together\, setting aside accountability work time for whatever you need focus time on. WAGs can be used for other tasks/goals other than writing. It can include coding\, figure making\, presentation preparation and more.  \nThe SNR Committee has hosted a few of these networking and development opportunities in the last couple of years. They have been well-attended\, and attendees report successful outcomes from their participation.
URL:https://www.intlexposurescience.org/event/ises-wag-series/
LOCATION:Zoom
END:VEVENT
END:VCALENDAR