BEGIN:VCALENDAR
VERSION:2.0
PRODID:-//International Society of Exposure Science - ECPv6.15.17//NONSGML v1.0//EN
CALSCALE:GREGORIAN
METHOD:PUBLISH
X-WR-CALNAME:International Society of Exposure Science
X-ORIGINAL-URL:https://www.intlexposurescience.org
X-WR-CALDESC:Events for International Society of Exposure Science
REFRESH-INTERVAL;VALUE=DURATION:PT1H
X-Robots-Tag:noindex
X-PUBLISHED-TTL:PT1H
BEGIN:VTIMEZONE
TZID:America/Chicago
BEGIN:DAYLIGHT
TZOFFSETFROM:-0600
TZOFFSETTO:-0500
TZNAME:CDT
DTSTART:20240310T080000
END:DAYLIGHT
BEGIN:STANDARD
TZOFFSETFROM:-0500
TZOFFSETTO:-0600
TZNAME:CST
DTSTART:20241103T070000
END:STANDARD
BEGIN:DAYLIGHT
TZOFFSETFROM:-0600
TZOFFSETTO:-0500
TZNAME:CDT
DTSTART:20250309T080000
END:DAYLIGHT
BEGIN:STANDARD
TZOFFSETFROM:-0500
TZOFFSETTO:-0600
TZNAME:CST
DTSTART:20251102T070000
END:STANDARD
BEGIN:DAYLIGHT
TZOFFSETFROM:-0600
TZOFFSETTO:-0500
TZNAME:CDT
DTSTART:20260308T080000
END:DAYLIGHT
BEGIN:STANDARD
TZOFFSETFROM:-0500
TZOFFSETTO:-0600
TZNAME:CST
DTSTART:20261101T070000
END:STANDARD
END:VTIMEZONE
BEGIN:VEVENT
DTSTART;TZID=America/Chicago:20250219T110000
DTEND;TZID=America/Chicago:20250219T123000
DTSTAMP:20260423T121303
CREATED:20250204T153200Z
LAST-MODIFIED:20250204T153200Z
UID:9811-1739962800-1739968200@www.intlexposurescience.org
SUMMARY:Mentorship Committee Workshop – Navigating Interviews for Career Opportunities in Exposure Science
DESCRIPTION:his workshop\, hosted by the ISES Mentorship Committee\, is tailored for early-career professionals looking to strengthen their career development skills. In this interactive 1.5-hour session\, attendees will learn practical strategies for navigating interviews with confidence. The workshop includes expert tips\, small-group discussions on interview preparation\, and networking opportunities to connect with peers and mentors. Whether you’re applying for academic\, industry\, or policy roles\, this session will provide the tools and insights you need to stand out in your career journey.
URL:https://www.intlexposurescience.org/event/mentorship-committee-workshop-navigating-interviews-for-career-opportunities-in-exposure-science/
LOCATION:Zoom
END:VEVENT
END:VCALENDAR