BEGIN:VCALENDAR
VERSION:2.0
PRODID:-//International Society of Exposure Science - ECPv6.15.17//NONSGML v1.0//EN
CALSCALE:GREGORIAN
METHOD:PUBLISH
X-ORIGINAL-URL:https://www.intlexposurescience.org
X-WR-CALDESC:Events for International Society of Exposure Science
REFRESH-INTERVAL;VALUE=DURATION:PT1H
X-Robots-Tag:noindex
X-PUBLISHED-TTL:PT1H
BEGIN:VTIMEZONE
TZID:America/Chicago
BEGIN:DAYLIGHT
TZOFFSETFROM:-0600
TZOFFSETTO:-0500
TZNAME:CDT
DTSTART:20250309T080000
END:DAYLIGHT
BEGIN:STANDARD
TZOFFSETFROM:-0500
TZOFFSETTO:-0600
TZNAME:CST
DTSTART:20251102T070000
END:STANDARD
BEGIN:DAYLIGHT
TZOFFSETFROM:-0600
TZOFFSETTO:-0500
TZNAME:CDT
DTSTART:20260308T080000
END:DAYLIGHT
BEGIN:STANDARD
TZOFFSETFROM:-0500
TZOFFSETTO:-0600
TZNAME:CST
DTSTART:20261101T070000
END:STANDARD
BEGIN:DAYLIGHT
TZOFFSETFROM:-0600
TZOFFSETTO:-0500
TZNAME:CDT
DTSTART:20270314T080000
END:DAYLIGHT
BEGIN:STANDARD
TZOFFSETFROM:-0500
TZOFFSETTO:-0600
TZNAME:CST
DTSTART:20271107T070000
END:STANDARD
END:VTIMEZONE
BEGIN:VEVENT
DTSTART;TZID=America/Chicago:20260429T103000
DTEND;TZID=America/Chicago:20260429T113000
DTSTAMP:20260423T215212
CREATED:20260325T173300Z
LAST-MODIFIED:20260330T131301Z
UID:10684-1777458600-1777462200@www.intlexposurescience.org
SUMMARY:SNR WAG Meet-up!
DESCRIPTION:Join us NEXT WEEK for the next SNR WAG meet-up! \nDo you have a project or paper to work on? Why not join us and work with a group? \nIt’s not too late to join next week’s Writing Accountability Group (WAG) Webinar. \nIf you want support with focus time\, time management\, or prioritizing tasks\, or just like working with support and with a community\, this WAG is for you! \nIt’s not just for writing—you can use this time to focus on any task\, from coding and creating figures to preparing presentations. \nThe WAG community provides support and accountability to help you achieve your goals\, big or small. \nWe hope you’ll join us next week to boost your productivity! \nHosted by SNR.
URL:https://www.intlexposurescience.org/event/beyond-academia-navigating-careers-in-non-profits-webinar-2/
LOCATION:Zoom
END:VEVENT
END:VCALENDAR